    BEGIN:VCALENDAR
VERSION:2.0
PRODID:-//HERZOG Kultur- &amp; Stadtmagazin - ECPv4.9.2//NONSGML v1.0//EN
CALSCALE:GREGORIAN
METHOD:PUBLISH
X-WR-CALNAME:HERZOG Kultur- &amp; Stadtmagazin
X-ORIGINAL-URL:https://www.herzog-magazin.de
X-WR-CALDESC:Veranstaltungen im HERZOG Kultur- &amp; Stadtmagazin
BEGIN:VEVENT
DTSTART;TZID=Europe/Berlin:20231125T110000
DTEND;TZID=Europe/Berlin:20231125T170000
DTSTAMP:20260419T144515
CREATED:20231106T125846Z
LAST-MODIFIED:20231106T125846Z
UID:117587-1700910000-1700931600@www.herzog-magazin.de
SUMMARY:Wintermarkt in Stetternich
DESCRIPTION:Staunen\, stöbern\, genießen\, shoppen und sich in vorweihnachtlicher Stimmung verwöhnen lassen: Bereits in die dritte Runde geht der kleine\, aber feine Wintermarkt in Stetternich. Er findet am Samstag\, 25. November\, von 11 bis 17 Uhr in der Wendelinusstraße 33 statt. \nUnter den Ausstellern befinden sich Uta Pirug (Mary Kay Cosmetic und Visagistik)\, Andrea Wilbrink (Märchenhaft)\, Patricia Heck (Ausdrucksstark Fotografie)\, Steffi Hütten (Geplottertes)\, Britta Fink (Papierkreativ)\, Jennifer Macherey (Häkelkunst)\, Nicole Engelbrecht (Jemako)\, Heidi Herzog (Seifen)\, Hans Willi Wingens (Casa Saponia Seife) sowie Alicia Vera Pirug (Adventskränze). \nAls besonderes Highlight gibt es ab 15 Uhr Märchenerzählungen für Kinder an der Feuerschale. Außerdem gibt es wieder Glühwein und Waffeln gegen eine freiwillige Spende. Parkplätze befinden sich am Spielplatz und in den Seitenstraßen. \n
URL:https://www.herzog-magazin.de/event/wintermarkt-in-stetternich-2/
LOCATION:Stetternich\, Jülich-Stetternich\, NRW\, 52428\, Deutschland
CATEGORIES:Essen & Trinken,Festival & Markt,für Kinder
ATTACH;FMTTYPE=image/jpeg:https://www.herzog-magazin.de/wp-content/uploads/2023/11/WintermarktStetternich2023.jpg
END:VEVENT
END:VCALENDAR