    BEGIN:VCALENDAR
VERSION:2.0
PRODID:-//HERZOG Kultur- &amp; Stadtmagazin - ECPv4.9.2//NONSGML v1.0//EN
CALSCALE:GREGORIAN
METHOD:PUBLISH
X-WR-CALNAME:HERZOG Kultur- &amp; Stadtmagazin
X-ORIGINAL-URL:https://www.herzog-magazin.de
X-WR-CALDESC:Veranstaltungen im HERZOG Kultur- &amp; Stadtmagazin
BEGIN:VEVENT
DTSTART;TZID=Europe/Berlin:20241123T110000
DTEND;TZID=Europe/Berlin:20241123T170000
DTSTAMP:20260422T180027
CREATED:20241106T110729Z
LAST-MODIFIED:20241106T110729Z
UID:135538-1732359600-1732381200@www.herzog-magazin.de
SUMMARY:Wintermarkt in Stetternich
DESCRIPTION:Zum 4. Wintermarkt am 23. November in Stetternich begrüßen viele Aussteller. Dieses Mal findet der Markt an einem neuen Veranstaltungsort statt\, in der Talstr. 9 in Stetternich. Die Veranstalter laden zum Verwöhnen\, Staunen\, Stöbern\, Genießen und Shoppen ein. Für die Kinder gibt es ab 15 Uhr Märchenerzählungen an der Feuerschale.\nParkplätze befinden sich am Spielplatz und in den Seitenstraßen. \n
URL:https://www.herzog-magazin.de/event/wintermarkt-in-stetternich-3/
LOCATION:Talstraße 9\, Jülich\, Talstraße 9\, Jülich\, NRW\, Deutschland
CATEGORIES:Essen & Trinken,Festival & Markt
ATTACH;FMTTYPE=image/jpeg:https://www.herzog-magazin.de/wp-content/uploads/2024/11/wintermarkt.jpg
END:VEVENT
END:VCALENDAR