    BEGIN:VCALENDAR
VERSION:2.0
PRODID:-//HERZOG Kultur- &amp; Stadtmagazin - ECPv4.9.2//NONSGML v1.0//EN
CALSCALE:GREGORIAN
METHOD:PUBLISH
X-WR-CALNAME:HERZOG Kultur- &amp; Stadtmagazin
X-ORIGINAL-URL:https://www.herzog-magazin.de
X-WR-CALDESC:Veranstaltungen im HERZOG Kultur- &amp; Stadtmagazin
BEGIN:VEVENT
DTSTART;TZID=Europe/Berlin:20220901T180000
DTEND;TZID=Europe/Berlin:20220901T210000
DTSTAMP:20260424T210532
CREATED:20220712T093344Z
LAST-MODIFIED:20220712T093344Z
UID:84801-1662055200-1662066000@www.herzog-magazin.de
SUMMARY:Wirtschaftsförderung im Kreis Düren
DESCRIPTION:Förderprogramm der NRW.Bank unterstützt Unternehmen. Seit Anfang des Jahres ist der Kreis Düren neues Fördergebiet im Rahmen des Regionalen Wirtschaftsförderungsprogramms (RWP). Damit werden insbesondere Investitionsvorhaben von kleinen und mittleren gewerblichen und touristischen Unternehmen sowie nicht investive Maßnahmen gefördert. Die Wirtschaftsförderung des Kreises Düren informiert über das Programm. \nVoraussetzung ist die Schaffung oder Sicherung von Dauerarbeitsplätzen. Die Wirtschaftsförderung stellt ausführliche Informationen zur Verfügung\, berät zur Förderbarkeit von Investitionsvorhaben und vermittelt vertiefende Beratungskontakte zur NRW.Bank\, bei der auch die Antragsstellung erfolgt.\nAuch bietet die Wirtschaftsförderung am Donnerstag\, 1. September\, von 18 bis 21 Uhr eine Informationsveranstaltung zu diesem Thema im Technologiezentrum Jülich\, Karl-Heinz-Beckurts-Straße 13\, an und lädt interessierte Unternehmen hierzu herzlich ein.  \nWeitere Informationen und die kostenfreie Beratung gibt es im Amt für Kreisentwicklung und Wirtschaftsförderung bei Sabrina Hauck\, s.hauck@kreis-dueren.de und telefonisch unter 02421 / 221061215.  \n
URL:https://www.herzog-magazin.de/event/wirtschaftsfoerderung-im-kreis-dueren/
LOCATION:Technologiezentrum Jülich (TZJ)\, Karlheinz-Beckurtz-Straße 13\, Jülich\, NRW\, 52428\, Deutschland
GEO:50.9097212;6.3812606
X-APPLE-STRUCTURED-LOCATION;VALUE=URI;X-ADDRESS=Technologiezentrum Jülich (TZJ) Karlheinz-Beckurtz-Straße 13 Jülich NRW 52428 Deutschland;X-APPLE-RADIUS=500;X-TITLE=Karlheinz-Beckurtz-Straße 13:geo:6.3812606,50.9097212
CATEGORIES:Informationsveranstaltung,Wirtschaft
ATTACH;FMTTYPE=image/jpeg:https://www.herzog-magazin.de/wp-content/uploads/2022/07/Kreis-Düren-2021-Logo-PUR-WEB.jpg
ORGANIZER;CN="Kreis%20D%C3%BCren":MAILTO:mail@kreis-dueren.de
END:VEVENT
END:VCALENDAR