    BEGIN:VCALENDAR
VERSION:2.0
PRODID:-//HERZOG Kultur- &amp; Stadtmagazin - ECPv4.9.2//NONSGML v1.0//EN
CALSCALE:GREGORIAN
METHOD:PUBLISH
X-WR-CALNAME:HERZOG Kultur- &amp; Stadtmagazin
X-ORIGINAL-URL:https://www.herzog-magazin.de
X-WR-CALDESC:Veranstaltungen im HERZOG Kultur- &amp; Stadtmagazin
BEGIN:VEVENT
DTSTART;TZID=Europe/Berlin:20230921T150000
DTEND;TZID=Europe/Berlin:20230921T160000
DTSTAMP:20260421T104109
CREATED:20230803T131838Z
LAST-MODIFIED:20230803T131838Z
UID:111732-1695308400-1695312000@www.herzog-magazin.de
SUMMARY:Wissen online: LOFAR als neue Himmelskarte
DESCRIPTION:„LOFAR – Eine neue Himmelskarte“ ist das Thema bei Wissenschaft online am Donnerstag\, 21. September. Bei der Veranstaltung des Jülicher Forschungszentrum sind Christina Manzano und Arpad Msikolczi von 15 bis 16 Uhr zu Gast. Der Vortrag ist online über www.fz-juelich.de/touren erreichbar. \nLOFAR ist ein riesiges europäisches Netzwerk von Radioteleskopen\, die über ein Hochgeschwindigkeits-Glasfasernetz miteinander verbunden sind und deren Messsignale zu einem einzigen Signal zusammengefasst werden. In Deutschland gibt es sechs Messstationen\, die von verschiedenen wissenschaftlichen Einrichtungen betrieben werden.  \nEine davon befindet sich südöstlich des Campus des Forschungszentrums Jülich und wird von der JSC gemeinsam mit der Universität Bochum betrieben. Wie die enormen Datenmengen bei LOFAR ausgewertet werden\, erläutern Christina Manzano und Arpad Miskolczi vom Jülich Supercomputing Centre am Donnerstag\, 21. September\, um 15 Uhr. \n
URL:https://www.herzog-magazin.de/event/wissen-online-lofar-als-neue-himmelskarte/
LOCATION:online\, NRW\, Deutschland
CATEGORIES:Online-Veranstaltung,Vortrag,Wissenschaft
ATTACH;FMTTYPE=image/jpeg:https://www.herzog-magazin.de/wp-content/uploads/2023/05/Logo-FZJ-Netz1.jpg
END:VEVENT
END:VCALENDAR