    BEGIN:VCALENDAR
VERSION:2.0
PRODID:-//HERZOG Kultur- &amp; Stadtmagazin - ECPv4.9.2//NONSGML v1.0//EN
CALSCALE:GREGORIAN
METHOD:PUBLISH
X-WR-CALNAME:HERZOG Kultur- &amp; Stadtmagazin
X-ORIGINAL-URL:https://www.herzog-magazin.de
X-WR-CALDESC:Veranstaltungen im HERZOG Kultur- &amp; Stadtmagazin
BEGIN:VEVENT
DTSTART;TZID=Europe/Berlin:20230914T150000
DTEND;TZID=Europe/Berlin:20230914T160000
DTSTAMP:20260422T205417
CREATED:20230829T131245Z
LAST-MODIFIED:20230829T131305Z
UID:113289-1694703600-1694707200@www.herzog-magazin.de
SUMMARY:Wissenschaft online: Autoverkehr
DESCRIPTION:„Reibung\, Haftung\, Risse – Forschung für den Autoverkehr“ ist das Thema bei Wissenschaft online am Donnerstag\, 14. September. Bei der Veranstaltung des Jülicher Forschungszentrum ist Prof. Dr. Frank Wilhelm-Mauch von 15 bis 16 Uhr zu Gast. Der Vortrag ist online über www.fz-juelich.de/touren erreichbar. \nForschung über Reibung und Risse? Was sich zunächst banal anhört\, entpuppt sich als etwas\, mit dem viele Menschen täglich zu tun haben. Wenn es sich nämlich um den Abrieb von Gummiblöcken auf rauem Untergrund\, sprich: von Reifen auf Straßenoberflächen handelt\, ist schnell klar\, wie wichtig das Thema für den Verkehr ist. Dieses Forschungsgebiet nennt sich Tribologie. Hier hat jüngst Dr. Bo Persson vom Jülicher Peter-Grünberg-Institut die höchste Ehrung für bahnbrechende Leistungen erhalten\, die Tribology Gold Medal.  \nDr. Persson stellt seine Arbeit – unter anderem die von ihm entwickelte „Persson-Theorie“ der Multiskalen-Kontaktmechanik am Donvor – am Donnerstag\, 14. September\, um 15 Uhr vor. Der Termin findet in englischer Sprache statt. \n
URL:https://www.herzog-magazin.de/event/wissenschaft-forschung-fuer-den-autoverkehr/
LOCATION:online\, NRW\, Deutschland
CATEGORIES:Online-Veranstaltung,Vortrag,Wissenschaft
ATTACH;FMTTYPE=image/jpeg:https://www.herzog-magazin.de/wp-content/uploads/2023/05/Logo-FZJ-Netz1.jpg
END:VEVENT
END:VCALENDAR