    BEGIN:VCALENDAR
VERSION:2.0
PRODID:-//HERZOG Kultur- &amp; Stadtmagazin - ECPv4.9.2//NONSGML v1.0//EN
CALSCALE:GREGORIAN
METHOD:PUBLISH
X-WR-CALNAME:HERZOG Kultur- &amp; Stadtmagazin
X-ORIGINAL-URL:https://www.herzog-magazin.de
X-WR-CALDESC:Veranstaltungen im HERZOG Kultur- &amp; Stadtmagazin
BEGIN:VEVENT
DTSTART;TZID=Europe/Berlin:20231123T150000
DTEND;TZID=Europe/Berlin:20231123T160000
DTSTAMP:20260419T234346
CREATED:20231114T113626Z
LAST-MODIFIED:20231114T113626Z
UID:118127-1700751600-1700755200@www.herzog-magazin.de
SUMMARY:Wissenschaft online: Corporate Design
DESCRIPTION:„Wissenschaft und Corporate Design – so funktioniert’s“ ist das Thema bei Wissenschaft online am Donnerstag\, 23. November. Bei der Veranstaltung des Jülicher Forschungszentrum ist Silva Thomas von 15 bis 16 Uhr zu Gast. Der Vortrag ist online über www.fz-juelich.de/touren erreichbar. \nWie „verpackt“ man Wissenschaft effektiv? Darum kümmern sich im Forschungszentrum Jülich die Grafischen Medien. Die Kolleginnen und Kollegen dort wissen\, wie man wissenschaftliche Informationsmaterialien passend für jede Zielgruppe erstellt. Wissenschaffende auf einer Tagung haben zum Beispiel einen anderen Zugang zum Thema als Laien.  \nSilva Thomas\, Leiterin des Teams der Grafischen Medien\, gibt am Donnerstag\, 23. November\, ab 15 Uhr Tipps und Tricks zu grafischen Präsentation wissenschaftlicher Ergebnisse\, ob nun für Konferenzposter oder Dissertationen. Sie zeigt\, wie man die richtige Datenlage für Druckvorlagen berücksichtigt\, Design-Vorgaben verwendet und viele Fehler mit einfachen Mitteln vermeiden kann. \n
URL:https://www.herzog-magazin.de/event/wissenschaft-online-corporate-design/
LOCATION:online\, NRW\, Deutschland
CATEGORIES:Online-Veranstaltung,Wissenschaft
ATTACH;FMTTYPE=image/jpeg:https://www.herzog-magazin.de/wp-content/uploads/2023/05/Logo-FZJ-Netz1.jpg
END:VEVENT
END:VCALENDAR