    BEGIN:VCALENDAR
VERSION:2.0
PRODID:-//HERZOG Kultur- &amp; Stadtmagazin - ECPv4.9.2//NONSGML v1.0//EN
CALSCALE:GREGORIAN
METHOD:PUBLISH
X-WR-CALNAME:HERZOG Kultur- &amp; Stadtmagazin
X-ORIGINAL-URL:https://www.herzog-magazin.de
X-WR-CALDESC:Veranstaltungen im HERZOG Kultur- &amp; Stadtmagazin
BEGIN:VEVENT
DTSTART;TZID=Europe/Berlin:20220901T150000
DTEND;TZID=Europe/Berlin:20220901T160000
DTSTAMP:20260424T205402
CREATED:20220829T181421Z
LAST-MODIFIED:20220829T181512Z
UID:87286-1662044400-1662048000@www.herzog-magazin.de
SUMMARY:FZJ online: „Das Geheimnis des Wetterturms“
DESCRIPTION:„Das Geheimnis des Wetterturms“ ist am Donnerstag\, 1. September\, das Thema bei Wissenschaft online des Forschungszentrums Jülich (www.fz-juelich.de/touren). Dr. Patrizia Ney (Teamleitung Meteorologie) und Ralf Eckert (Teamleitung Emissionskontrolle) werden in einem geteilten Vortrag von 15 bis 16 Uhr einen Einblick in die Arbeiten der Umgebungsüberwachung geben und das Geheimnis um den Turm lüften. \nAllen Mitarbeitenden und sicherlich auch einigen Menschen aus dem Jülicher Umland ist er sprichwörtlich schon mal ins Auge gestochen\, der rot-weiße\, über 120 Meter hohe Turm im Forschungszentrum Jülich. Nunmehr seit fast 60 Jahren thront er über das Gelände des Forschungszentrums und nicht wenige Mitarbeitende rätseln über die Funktion des hohen Bauwerks. \nDer Turm mit meteorologischer Messinstrumentierung in verschiedenen Höhen dient nicht nur als Plattform unterschiedlicher Forschungsprojekten/Forschungskooperationen (zum Beispiel ICOS Messprogramm für Klimagase und Radonmessung DWD\, Aerosolforschung IEK-8). Darüber hinaus sind Teile der gemessenen meteorologischen Daten ein wichtiger Bestandteil der gesetzlich geforderten Umgebungsüberwachung. \nEine wesentliche Aufgabe des Geschäftsbereiches Sicherheit und Strahlenschutz umfasst die Überwachung der Umwelt auf Radioaktivität um die rechtlichen Auflagen der verschiedenen atomrechtlichen Genehmigungen des Forschungszentrums und der Jülicher Entsorgungsgesellschaft für Nuklearanlagen mbH (JEN) einzuhalten. Die Umgebungsüberwachung bildet somit maßgeblich die Basis zum Schutz der Mitarbeitenden\, der Bevölkerung sowie der Umwelt in Jülich und Umgebung. \nDer Einwahllink lautet: https://webconf.fz-juelich.de/b/bie-ft8-iks \n
URL:https://www.herzog-magazin.de/event/wissenschaft-online-das-geheimnis-des-wetterturms/
LOCATION:online\, NRW\, Deutschland
CATEGORIES:Naturwissenschaft / Mathematik / Technik,Online-Veranstaltung,Wissenschaft
ATTACH;FMTTYPE=image/jpeg:https://www.herzog-magazin.de/wp-content/uploads/2022/08/Logo-FZJ-Netz1.jpg
END:VEVENT
END:VCALENDAR