    BEGIN:VCALENDAR
VERSION:2.0
PRODID:-//HERZOG Kultur- &amp; Stadtmagazin - ECPv4.9.2//NONSGML v1.0//EN
CALSCALE:GREGORIAN
METHOD:PUBLISH
X-WR-CALNAME:HERZOG Kultur- &amp; Stadtmagazin
X-ORIGINAL-URL:https://www.herzog-magazin.de
X-WR-CALDESC:Veranstaltungen im HERZOG Kultur- &amp; Stadtmagazin
BEGIN:VEVENT
DTSTART;TZID=Europe/Berlin:20221110T150000
DTEND;TZID=Europe/Berlin:20221110T160000
DTSTAMP:20260426T003427
CREATED:20221002T102453Z
LAST-MODIFIED:20221002T102453Z
UID:89683-1668092400-1668096000@www.herzog-magazin.de
SUMMARY:Wissenschaft online: Drohnen auf der Gasjagd
DESCRIPTION:Mit „Drohnen auf der Jagd nach schädlichen Spurengasen“ beschäftigt sich Tobias Schuldt PhD am Donnerstag\, 10. November\, bei Wissenschaft online. Die Plattform des Jülicher Forschungszentrums ist dann von 15 bis 16 Uhr erreichbar. Der Veranstaltungsort ist www.fz-juelich.de/touren\, der Einwahllink https://webconf.fz-juelich.de/b/bie-ft8-iks. \nDrohnen werden bereits in den verschiedensten Gebieten eingesetzt\, sei es zur Sicherheitsüberwachung\, zur Flächenvermessung\, für Videoaufnahmen von Sportevents oder sogar im privaten Bereich – und auch die Atmosphärenforschung hat sie für sich als attraktive Messplattform entdeckt. Das Institut für Energie- und Klimaforschung IEK-8 (Troposphäre) verwendet Drohnen zur Messung von Spurengasen wie Stickoxiden (NOx)\, und Feinstaub\, die in erhöhten Konzentrationen schädlich für unsere Gesundheit sind.  \nDoch wozu sollte man neben den Messstationen am Boden\, Flugzeugen und Satelliten zusätzlich noch Drohnen einsetzen? Der große Vorteil liegt in der Messung in einem Höhenbereich\, der von den anderen Plattformen nur schwierig zu erreichen ist\, für die Ausbreitung von Stoffen in der Luft jedoch sehr wichtig ist: über unseren Köpfen\, aber unter der typischen Höhe von beispielsweise Flugzeugen. Daraus ergeben sich ganz neue Möglichkeiten die Schadstoffe in unserer Atmosphäre zu beobachten. Tobias Schuldt PhD berichtet in seinem Vortrag am Donnerstag\, 10. November\, auch über eine aktuelle Messkampagne des Institutes\, bei der Drohnen zum Einsatz kamen. \n
URL:https://www.herzog-magazin.de/event/wissenschaft-online-drohnen-auf-der-gasjagd/
LOCATION:online\, NRW\, Deutschland
CATEGORIES:Online-Veranstaltung,Vortrag,Wissenschaft
ATTACH;FMTTYPE=image/jpeg:https://www.herzog-magazin.de/wp-content/uploads/2022/10/Logo-FZJ-Netz1-1.jpg
END:VEVENT
END:VCALENDAR