    BEGIN:VCALENDAR
VERSION:2.0
PRODID:-//HERZOG Kultur- &amp; Stadtmagazin - ECPv4.9.2//NONSGML v1.0//EN
CALSCALE:GREGORIAN
METHOD:PUBLISH
X-WR-CALNAME:HERZOG Kultur- &amp; Stadtmagazin
X-ORIGINAL-URL:https://www.herzog-magazin.de
X-WR-CALDESC:Veranstaltungen im HERZOG Kultur- &amp; Stadtmagazin
BEGIN:VEVENT
DTSTART;TZID=Europe/Berlin:20221208T150000
DTEND;TZID=Europe/Berlin:20221208T160000
DTSTAMP:20260420T025650
CREATED:20221129T171906Z
LAST-MODIFIED:20221129T171906Z
UID:94568-1670511600-1670515200@www.herzog-magazin.de
SUMMARY:Wissenschaft online: Entstehung des Lebens
DESCRIPTION:„Wie könnte das Leben auf der Erde entstanden sein?“ fragt Prof. Dr. Simone Wiegand bei Wissenschaft online am Donnerstag\, 8. Dezember. Die Plattform des Jülicher Forschungszentrums ist dann von 15 bis 16 Uhr erreichbar. Der Veranstaltungsort ist www.fz-juelich.de/touren\, der Einwahllink https://webconf.fz-juelich.de/b/bie-ft8-iks. \nJeder hat sich bestimmt schon einmal gefragt\, wie das Leben auf der Erde entstanden ist. Vor etwa vier Milliarden Jahren war die Erde soweit abgekühlt\, dass flüssiges Wasser die Oberfläche bedeckte. Die Grundlage für die Entstehung des Lebens könnte Formamid gewesen sein\, ein kleines organisches Molekül\, aus dem sich DNA-Bausteine\, sogenannte Nukleinbasen\, bilden können.  \nAllerdings war die Formamid-Konzentration auf der frühzeitlichen Erde für diesen Vorgang viel zu gering. Mit Hilfe von Experimenten und Simulationen haben Prof. Wiegand und ihr Team Formamid soweit angereichert\, dass sich Nukleinbasen bilden können. In ihrem Vortrag am Donnerstag\, 8. Dezember\, stellt sie ein mögliches Szenario vor\, in dem diese komplexen Vorgänge möglich gewesen sein könnten. \n
URL:https://www.herzog-magazin.de/event/wissenschaft-online-entstehung-des-lebens/
LOCATION:online\, NRW\, Deutschland
CATEGORIES:Online-Veranstaltung,Vortrag,Wissenschaft
ATTACH;FMTTYPE=image/jpeg:https://www.herzog-magazin.de/wp-content/uploads/2022/11/Logo-FZJ-Netz1-3.jpg
END:VEVENT
END:VCALENDAR