    BEGIN:VCALENDAR
VERSION:2.0
PRODID:-//HERZOG Kultur- &amp; Stadtmagazin - ECPv4.9.2//NONSGML v1.0//EN
CALSCALE:GREGORIAN
METHOD:PUBLISH
X-WR-CALNAME:HERZOG Kultur- &amp; Stadtmagazin
X-ORIGINAL-URL:https://www.herzog-magazin.de
X-WR-CALDESC:Veranstaltungen im HERZOG Kultur- &amp; Stadtmagazin
BEGIN:VEVENT
DTSTART;TZID=Europe/Berlin:20230601T150000
DTEND;TZID=Europe/Berlin:20230601T160000
DTSTAMP:20260424T100420
CREATED:20230503T142652Z
LAST-MODIFIED:20230503T142652Z
UID:105722-1685631600-1685635200@www.herzog-magazin.de
SUMMARY:Wissenschaft online: KI in der Medizin
DESCRIPTION:„Künstliche Intelligenz in der Medizin“ ist das Thema bei Wissenschaft online am Donnerstag\, 1. Juni. Prof. Dr. Bert Heinrichs spricht dann auf der Plattform vom Jülicher Forschungszentrum. \nDie Plattform des Jülicher Forschungszentrums ist dann von 15 bis 16 Uhr erreichbar. Der Veranstaltungsort ist www.fz-juelich.de/touren\, der Einwahllink https://webconf.fz-juelich.de/b/bie-ft8-iks.  \nKünstliche Intelligenz spielt schon heute eine wichtige Rolle in der Medizin. Mit dem Einsatz dieser Technologien sind aber auch ethische Herausforderungen verbunden. Welche Rahmenbedingungen müssen bestehen\, damit der Einsatz von KI aus ethischer Sicht vertretbar ist? Diese Frage erörtert Prof. Dr. Bert Heinrichs am Donnerstag\, 1. Juni\, um 15 Uhr in der Reihe „Wissenschaft online“. \nWissenschaftliche Heimat von Prof. Heinrichs ist das Institut für Neurowissenschaften im Forschungszentrum Jülich. Im dortigen Bereich „Gehirn und Verhalten“ analysiert er mit seiner Arbeitsgruppe „Neuroethik und Ethik der KI“ neurowissenschaftliche Erkenntnisse aus den Perspektiven der Wissenschaftstheorie\, der Philosophie des Geistes und der Ethik.  \n
URL:https://www.herzog-magazin.de/event/wissenschaft-online-ki-in-der-medizin/
LOCATION:online\, NRW\, Deutschland
CATEGORIES:Online-Veranstaltung,Vortrag,Wissenschaft
ATTACH;FMTTYPE=image/jpeg:https://www.herzog-magazin.de/wp-content/uploads/2023/05/Logo-FZJ-Netz1.jpg
END:VEVENT
END:VCALENDAR