    BEGIN:VCALENDAR
VERSION:2.0
PRODID:-//HERZOG Kultur- &amp; Stadtmagazin - ECPv4.9.2//NONSGML v1.0//EN
CALSCALE:GREGORIAN
METHOD:PUBLISH
X-WR-CALNAME:HERZOG Kultur- &amp; Stadtmagazin
X-ORIGINAL-URL:https://www.herzog-magazin.de
X-WR-CALDESC:Veranstaltungen im HERZOG Kultur- &amp; Stadtmagazin
BEGIN:VEVENT
DTSTART;TZID=Europe/Berlin:20221211T190000
DTEND;TZID=Europe/Berlin:20221211T190000
DTSTAMP:20260424T052518
CREATED:20221206T104245Z
LAST-MODIFIED:20221206T104349Z
UID:94931-1670785200-1670785200@www.herzog-magazin.de
SUMMARY:Propsteikirche: Worldwide candle lighting
DESCRIPTION:„Worldwide candle lightning“: Am Weltgedenktag für verstorbene Kinder geht ein Licht um die Welt: Jedes Jahr am 2. Dezember-Sonntag stellen seit vielen Jahren Betroffene rund um die ganze Welt um 19 Uhr brennende Kerzen in ihre Fenster.  \nWährend die Kerzen der einen Zeitzone erlöschen\, werden sie in der nächsten entzündet\, so dass eine Lichterwelle für 24 Stunden die ganze Welt umringt. Jedes Licht im Fenster steht dafür\, dass die Kinder das Leben erhellt haben und dass sie nie vergessen werden.  \nBeim „Worldwide candle lightning“ zeigen die brennenden Kerzen\, dass die verstorbenen Kinder weiter in den Herzen der Menschen leuchten. In Jülich wird jährlich dieser Welttag des Gedenkens in der Reihe des „Neuen Sonntagabends“ als Gottesdienst mit Texten\, Klängen und Liedern\, die einen gemeinsamen Raum zum Gedenken schaffen\, begangen\, um in die Stille zu gehen und das Herz ein Stück für das Licht zu öffnen. So sind Gäste am Sonntag\, 11. Dezember\, um 19 Uhr in der Propsteikirche herzlich willkommen. \n
URL:https://www.herzog-magazin.de/event/worldwide-candle-lighting-in-der-propsteikirche/
LOCATION:Propsteipfarrkirche St.Mariä Himmelfahrt\, Stiftsherrenstraße 15\, Jülich\, NRW\, 52428\, Deutschland
GEO:50.9214998;6.3593009
X-APPLE-STRUCTURED-LOCATION;VALUE=URI;X-ADDRESS=Propsteipfarrkirche St.Mariä Himmelfahrt Stiftsherrenstraße 15 Jülich NRW 52428 Deutschland;X-APPLE-RADIUS=500;X-TITLE=Stiftsherrenstraße 15:geo:6.3593009,50.9214998
CATEGORIES:Religion,Sonstiges
ATTACH;FMTTYPE=image/jpeg:https://www.herzog-magazin.de/wp-content/uploads/2022/12/Propsteikirche-Netz.jpg
ORGANIZER;CN="Kath.%20Pfarrei%20Heilig%20Geist%20J%C3%BClich":MAILTO:pfarramt@heilig-geist-juelich.de
END:VEVENT
END:VCALENDAR