    BEGIN:VCALENDAR
VERSION:2.0
PRODID:-//HERZOG Kultur- &amp; Stadtmagazin - ECPv4.9.2//NONSGML v1.0//EN
CALSCALE:GREGORIAN
METHOD:PUBLISH
X-WR-CALNAME:HERZOG Kultur- &amp; Stadtmagazin
X-ORIGINAL-URL:https://www.herzog-magazin.de
X-WR-CALDESC:Veranstaltungen im HERZOG Kultur- &amp; Stadtmagazin
BEGIN:VEVENT
DTSTART;TZID=Europe/Berlin:20171225T200000
DTEND;TZID=Europe/Berlin:20171225T200000
DTSTAMP:20260422T010702
CREATED:20171106T160047Z
LAST-MODIFIED:20171106T160533Z
UID:3010-1514232000-1514232000@www.herzog-magazin.de
SUMMARY:X-Mas Coming Home Reloaded
DESCRIPTION:Der Klassiker nach dem Klassiker am 23. Dezember! Mit DJ Beattech (Charts\, Rock\, Party)\nWer bis 22 Uhr kommt\, bekommt den ganzen Abend einen Rabatt von 0.50 euro auf alle Schnäpse! Bis 22 Uhr Bier Happy Hour: 0\,33 Bier nur 1\,70 Euro. \n
URL:https://www.herzog-magazin.de/event/x-mas-coming-home-reloaded/
LOCATION:Kulturbahnhof (KuBa) Jülich\, Bahnhofsstraße 13\, Jülich\, NRW\, 52428\, Deutschland
GEO:50.91828;6.36768
X-APPLE-STRUCTURED-LOCATION;VALUE=URI;X-ADDRESS=Kulturbahnhof (KuBa) Jülich Bahnhofsstraße 13 Jülich NRW 52428 Deutschland;X-APPLE-RADIUS=500;X-TITLE=Bahnhofsstraße 13:geo:6.36768,50.91828
CATEGORIES:Musik,Party
ATTACH;FMTTYPE=image/jpeg:https://www.herzog-magazin.de/wp-content/uploads/2017/11/171225_XmasReloadedA2.jpg
ORGANIZER;CN="Kulturbahnhof%20J%C3%BClich":MAILTO:info@kuba-juelich.de
END:VEVENT
END:VCALENDAR