    BEGIN:VCALENDAR
VERSION:2.0
PRODID:-//HERZOG Kultur- &amp; Stadtmagazin - ECPv4.9.2//NONSGML v1.0//EN
CALSCALE:GREGORIAN
METHOD:PUBLISH
X-WR-CALNAME:HERZOG Kultur- &amp; Stadtmagazin
X-ORIGINAL-URL:https://www.herzog-magazin.de
X-WR-CALDESC:Veranstaltungen im HERZOG Kultur- &amp; Stadtmagazin
BEGIN:VEVENT
DTSTART;TZID=Europe/Berlin:20220422T193000
DTEND;TZID=Europe/Berlin:20220422T193000
DTSTAMP:20260419T141356
CREATED:20220314T103208Z
LAST-MODIFIED:20220314T103551Z
UID:76002-1650655800-1650655800@www.herzog-magazin.de
SUMMARY:YouthBrassBand in der Zitadelle
DESCRIPTION:Die YouthBrassBand (YBB) NRW  präsentiert sich auf einem Konzert am Freitag\, 22. April im Gymnasium Zitadelle Jülich. Beginn ist um 19.30 Uhr\, Einlass wird ab 19 Uhr gewährt. \nDie YBB NRW ist die erste landesweite Jugendbrassband Deutschlands und wurde im Sommer 2008 von Martin Schädlich gegründet. Ziel dieses Orchesters ist es\, jungen Musikern aus ganz NRW die Möglichkeit zu geben\, gemeinsam auf höchstem Niveau Brass Band Musik zu spielen.  \nDa die Musiker zwischen 14 und 30 Jahren alt sein dürfen\, werden in diesem Ensemble Musikschüler\, viele von ihnen Preisträger bei Jugend musiziert\, Musikstudenten und junge Profis zusammengeführt. Die YBB NRW steht nach wie vor unter der künstlerischen Leitung von Martin Schädlich. \nDas Ensemble spielte bereits in der Kölner Philharmonie\, der Duisburger Mercatorhalle\, der Essener Grugahalle und bei der Düsseldorfer Jazzralley. Seit 2011 sind die jungen Musiker ein festes Ensemble des renommierten Blechbläserfestivals Sauerlandherbst und begleiteten Hans Gansch\, Oystein Baadsvik\, Owen Farr\, Frits Damrow und Ian Bousfield. \n2015 wurden sie von der Europäischen Brass Band Vereinigung ausgewählt\, dem Publikum die Neukompositionen des Finales des 4. Europäischen Komponistenwettbewerbes zu präsentieren.\nIm WDR-Fernsehen\, bei Center TV Düsseldorf und im Radio bei WDR3 gab es bereits ausführliche Berichte über die YBB NRW. \nIm Jahr 2014 gewann die YBB NRW die B-Section des internationalen Wettbewerbes „Flemish Open“ und bei der deutschen Brass Band Meisterschaft 2016 erreichte das Ensemble den dritten Platz\, nur 1\,7 (von 100) Punkten hinter dem Deutschen Meister. \nIm Jahr 2018 reiste die YBB NRW auf Einladung des „Shanghai Tourism Festivals“ für eine Woche nach Shanghai und begeisterte das chinesische Publikum im Konzertsaal und im chinesischen Fernsehen. 2019 lud das WDR Fernsehen das Ensemble ein\, die 500. Sendung des Kölner Treffs mit Bettina Böttinger musikalisch zu umrahmen. 2020 gestaltete die YBB NRW beim Beethovenfest ein einstündiges Live-Konzert mit ursprünglich elektronischer Weltmusik: World Beathoven. \nTickets gibt es bei www.westticket.de \n
URL:https://www.herzog-magazin.de/event/youthbrassband-in-der-zitadelle/
LOCATION:PZ Gymnasium Zitadelle\, In der Zitadelle\, Jülich\, NRW\, 52428
GEO:50.9252978;6.3600112
X-APPLE-STRUCTURED-LOCATION;VALUE=URI;X-ADDRESS=PZ Gymnasium Zitadelle In der Zitadelle Jülich NRW 52428;X-APPLE-RADIUS=500;X-TITLE=In der Zitadelle:geo:6.3600112,50.9252978
CATEGORIES:Musik,Musik & Konzerte
ATTACH;FMTTYPE=image/jpeg:https://www.herzog-magazin.de/wp-content/uploads/2022/03/YBB_Logo_Youth-Brass-Band.jpg
ORGANIZER;CN="MusikART%20D%C3%BCren%20e.V.":MAILTO:micha@musikart.de
END:VEVENT
END:VCALENDAR