    BEGIN:VCALENDAR
VERSION:2.0
PRODID:-//HERZOG Kultur- &amp; Stadtmagazin - ECPv4.9.2//NONSGML v1.0//EN
CALSCALE:GREGORIAN
METHOD:PUBLISH
X-WR-CALNAME:HERZOG Kultur- &amp; Stadtmagazin
X-ORIGINAL-URL:https://www.herzog-magazin.de
X-WR-CALDESC:Veranstaltungen im HERZOG Kultur- &amp; Stadtmagazin
BEGIN:VEVENT
DTSTART;TZID=Europe/Berlin:20220522T100000
DTEND;TZID=Europe/Berlin:20220522T100000
DTSTAMP:20260423T100859
CREATED:20220427T120403Z
LAST-MODIFIED:20220427T120427Z
UID:78767-1653213600-1653213600@www.herzog-magazin.de
SUMMARY:Zweiter Dorftrödelmarkt in Kirchberg
DESCRIPTION:Nachdem der Erste Kirchberger Dorftrödelmarkt im Jahr 2019 ein voller Erfolg war\, geht es nach zweijähriger Corona-Pause endlich in die zweite Runde: Mehr als 70 Kirchbergerinnen und Kirchberger werden am Sonntag\, 22. Mai\, ab 10 Uhr vor ihren Häusern und Garagen auf Gäste aus der Region erwartet. Noch bis zum 1. Mai geht die offizielle Anmeldephase.  \nDen Besuchern wird wieder ein „Rahmen-Programm“ geboten: Kaffee und Kuchen\, Kinderbelustigung\, Grillstation\, Parkplätze und natürlich freundliche Dorfbewohner\, die ihre Schätze und Raritäten seit zwei Jahren für diesen Moment aufbewahrt haben. Für die kulinarische Versorgung  sorgen die Kirchberger Vereine\, nach bewährtem Konzept. \n„Endlich erwacht Kirchberg wieder aus dem Corona Schlaf!“\, freut sich Organisator Thomas Jelen. „Als Dorfverein sind wir froh\, dass wir mit diesem Dorftrödelmarkt wieder ein Lebenszeichen nach draußen ausstrahlen können und das Dorf wieder ein Stück zusammenrückt“\, fasst Jelen\, zweiter Vorstandvorsitzender des Dorfvereins\, den unfreiwilligen Dornröschenschlaf während der Corona-Lockdown-Zeit zusammen. „Corona hat uns nicht klein gekriegt\, und wir sind wieder da!“ \nEr weiß auch: Gute Organisation ist das A und O für einen Dorftrödel: Auch diesmal gibt es Lagepläne der teilnehmenden Standorte\, die den Ausstellern zur Weitergabe an die Besucher ausgehändigt werden. Natürlich auch mit QR Code\, für alle\, die es handlich mögen. „Im Dorf wurde der Trödelmarkt schon lange herbei gesehnt\, und nun tun wir alles\, damit es auch dieses Mal wieder eine tolle Veranstaltung wird“\, versichert Jelen. „Tradition verpflichtet.“ \n
URL:https://www.herzog-magazin.de/event/zweiter-dorftroedelmarkt-in-kirchberg/
LOCATION:Kirchberg
CATEGORIES:Essen & Trinken,Festival & Markt,für Familien
ATTACH;FMTTYPE=image/jpeg:https://www.herzog-magazin.de/wp-content/uploads/2022/04/Kirchberg-Ortsschild.jpg
ORGANIZER;CN="Dorfgemeinschaft%20Zukunft%20Kirchberg":MAILTO:info@juelich-kirchberg.de
END:VEVENT
END:VCALENDAR