    BEGIN:VCALENDAR
VERSION:2.0
PRODID:-//HERZOG Kultur- &amp; Stadtmagazin - ECPv4.9.2//NONSGML v1.0//EN
CALSCALE:GREGORIAN
METHOD:PUBLISH
X-WR-CALNAME:HERZOG Kultur- &amp; Stadtmagazin
X-ORIGINAL-URL:https://www.herzog-magazin.de
X-WR-CALDESC:Veranstaltungen im HERZOG Kultur- &amp; Stadtmagazin
BEGIN:VEVENT
DTSTART;TZID=Europe/Berlin:20231027T190000
DTEND;TZID=Europe/Berlin:20231027T190000
DTSTAMP:20260420T130920
CREATED:20230914T114928Z
LAST-MODIFIED:20230914T114928Z
UID:114261-1698433200-1698433200@www.herzog-magazin.de
SUMMARY:„Zwielicht“ im Hexenturm
DESCRIPTION:In die Tiefe gehen: „Meine Arbeiten sind Landschaften\, Figuren und Architekturen in Wachs hinein geritzt. Wie eine Alltagsethnologin kratze\, schabe und setze ich frei\, gehe Fragen nach Wahrheit\, Identität und politischer Relevanz nach. Meine Technik\, von geschichtetem und gefärbtem Wachs auf Papier\, Holz oder Nessel\, entwickelte ich in einem jahrelangen Prozess in der Auseinandersetzung mit dem Material Wachs.“ So beschreibt Heike Jeschonnek ihre Arbeiten\, die sie im Hexenturm auf Einladung des Kunstvereins Jülich ausstellt.  \nDie Werkschau steht unter dem Titel „Zwielicht“. Im Dialog mit dem Vereinsvorsitzenden Peer Kling wird sie zur Vernissage am Freitag\, 27. Oktober\, um 19 Uhr Einblicke in ihr Bildwerk geben. Anschließend ist die Ausstellung bis Sonntag\, 19. November\, im Jülicher Hexenturm\, Kleine Rurstraße\, zu besichtigen. Öffnungszeiten sind samstags und sonntags von 11 bis 17 Uhr. \n
URL:https://www.herzog-magazin.de/event/zwielicht-im-hexenturm/2023-10-27/
LOCATION:Hexenturm\, Walramplatz\, Jülich\, 52428
GEO:50.9206663;6.3551803
X-APPLE-STRUCTURED-LOCATION;VALUE=URI;X-ADDRESS=Hexenturm Walramplatz Jülich 52428;X-APPLE-RADIUS=500;X-TITLE=Walramplatz:geo:6.3551803,50.9206663
CATEGORIES:Ausstellung,Kunst & Design
ATTACH;FMTTYPE=image/jpeg:https://www.herzog-magazin.de/wp-content/uploads/2023/09/Heike_Jeschonnek_Zwielicht.jpg
ORGANIZER;CN="Kunstverein%20J%C3%BClich%20e.V.":MAILTO:kimuleh@gmx.de
END:VEVENT
END:VCALENDAR